BEGIN:VCALENDAR
VERSION:2.0
PRODID:-//Rescue a Golden of Arizona - ECPv6.15.20//NONSGML v1.0//EN
CALSCALE:GREGORIAN
METHOD:PUBLISH
X-WR-CALNAME:Rescue a Golden of Arizona
X-ORIGINAL-URL:https://golden-retriever.org
X-WR-CALDESC:Events for Rescue a Golden of Arizona
REFRESH-INTERVAL;VALUE=DURATION:PT1H
X-Robots-Tag:noindex
X-PUBLISHED-TTL:PT1H
BEGIN:VTIMEZONE
TZID:America/Phoenix
BEGIN:STANDARD
TZOFFSETFROM:-0700
TZOFFSETTO:-0700
TZNAME:MST
DTSTART:20200101T000000
END:STANDARD
END:VTIMEZONE
BEGIN:VEVENT
DTSTART;TZID=America/Phoenix:20210130T140000
DTEND;TZID=America/Phoenix:20210130T180000
DTSTAMP:20260422T155840
CREATED:20210131T040000Z
LAST-MODIFIED:20230614T185519Z
UID:10337-1612015200-1612029600@golden-retriever.org
SUMMARY:Relay for Rescue
DESCRIPTION:Contact Heather Marcom rescueagoldenaz@yahoo.com \nWe’re excited to announce that we’ve been selected as one of ten rescues to participate in next year’s Relay for Rescue fundraising event! Usually this event is local to Phoenix but it’s now a virtual event which means anyone\, anywhere can participate! \nAll registered participants (click link below) who sign up under Rescue a Golden of Arizona will be able to download an app that will give you hundreds of scavenger hunt tasks to complete on the date of the event\, January 30th. For each task successfully completed\, you will earn points for our team (RAGofAZ). The top three rescues with the most points at the end of the scavenger hunt will win a cash prize! We also receive a portion of every registration under our rescue. \nWith fundraising activity dramatically reduced this year due to covid\, were hoping all of our supporters will sign up and participate! You can do it from your home\, a park\, a neighbor’s house…wherever you’d like! You can do it as an individual or with a group! It’s fun\, it’s something new and it helps Goldens in need! \nOh\, and you get a fun t-shirt too!! \nPlease\, register today under Rescue A Golden and we will see you on our team on January 30th! \nShare with your friends and family—all are welcome!
URL:https://golden-retriever.org/event/relay-for-rescue/
END:VEVENT
END:VCALENDAR